BEGIN:VCALENDAR
VERSION:2.0
PRODID:-//ChamberMaster//Event Calendar 2.0//EN
METHOD:PUBLISH
X-PUBLISHED-TTL:P3D
REFRESH-INTERVAL:P3D
CALSCALE:GREGORIAN
BEGIN:VEVENT
DTSTART:20220929T230000Z
DTEND:20220930T010000Z
X-MICROSOFT-CDO-ALLDAYEVENT:FALSE
SUMMARY:DIY Snuffle Mat Workshop
DESCRIPTION:The Crazy Dog Mom is teaming up with Happy Hound Adventures to bring you this fun DIY snuffle mat workshop!\n\n \n\nCome learn all about how to meet your dog's needs while making a snuffle mat to take home! We will have refreshments and a giveaway to enter!\n\n \n\nPlease leave your dog(s) at home for this workshop.\n\n \n\nCost: $37 for one snuffle mat\, $57 for two\n\n \n\nWhat's included in your ticket?\n\n  everything needed to make a snuffle mat\n\n  instruction on how to mak the snuffle mat\, benefits of a snuffle mat\, and other enrichment activities\n\n  refreshments\n\n  special discount on Excite Bites dog treats when purchased during the workshop\n\n  chance to enter our giveaway only available during the workshop\n\n \n\nPurchase your tickets in advance on our website\n\nwww.thecrazydogmom.com/products/diy-snuffle-mat-workshop
X-ALT-DESC;FMTTYPE=text/html:<div>The Crazy Dog Mom is teaming up with Happy Hound Adventures to bring you this fun DIY snuffle mat workshop!<br />\n&nbsp\;</div>\n\n<div>Come learn all about how to meet your dog&#39\;s needs while making a snuffle mat to take home! We will have refreshments and a giveaway to enter!<br />\n&nbsp\;</div>\n\n<div>Please leave your dog(s) at home for this workshop.<br />\n&nbsp\;</div>\n\n<div>Cost: $37 for one snuffle mat\, $57 for two<br />\n&nbsp\;</div>\n\n<div>What&#39\;s included in your ticket?<br />\n&bull\; everything needed to make a snuffle mat<br />\n&bull\; instruction on how to mak the snuffle mat\, benefits of a snuffle mat\, and other enrichment activities<br />\n&bull\; refreshments<br />\n&bull\; special discount on Excite Bites dog treats when purchased during the workshop<br />\n&bull\; chance to enter our giveaway only available during the workshop<br />\n&nbsp\;</div>\n\n<div>Purchase your tickets in advance on our website<br />\n<a class="qi72231t nu7423ey n3hqoq4p r86q59rh b3qcqh3k fq87ekyn bdao358l fsf7x5fv rse6dlih s5oniofx m8h3af8h l7ghb35v kjdc1dyq kmwttqpk srn514ro oxkhqvkx rl78xhln nch0832m cr00lzj9 rn8ck1ys s3jn8y49 icdlwmnq cxfqmxzd ezidihy3" href="http://www.thecrazydogmom.com/products/diy-snuffle-mat-workshop?fbclid=IwAR21c6I-dG2ijFbrC507VKmXy_9eR10w5D3R1iCrsS9_cfC7SHXZCG-5VIs" rel="nofollow noopener" style="color: var(--blue-link)\; cursor: pointer\; text-decoration-line: none\; outline: none\; list-style: none\; border-width: 0px\; border-style: initial\; border-color: initial\; box-sizing: border-box\; text-align: inherit\; margin: 0px\; padding: 0px\; background-color: transparent\; -webkit-tap-highlight-color: transparent\; display: inline\; touch-action: manipulation\; font-family: inherit\;" tabindex="0" target="_blank">www.thecrazydogmom.com/products/diy-snuffle-mat-workshop</a></div>\n
LOCATION:The Crazy Dog Mom Boutique 917 E Main St\, Stoughton\, WI
UID:e.3020.9508
SEQUENCE:3
DTSTAMP:20260422T024107Z
URL:http://stoughtonma.chambermaster.com/events/details/diy-snuffle-mat-workshop-9508
END:VEVENT

END:VCALENDAR
