BEGIN:VCALENDAR
VERSION:2.0
PRODID:-//ChamberMaster//Event Calendar 2.0//EN
METHOD:PUBLISH
X-PUBLISHED-TTL:P3D
REFRESH-INTERVAL:P3D
CALSCALE:GREGORIAN
BEGIN:VEVENT
DTSTART:20210724T130000Z
DTEND:20210724T220000Z
X-MICROSOFT-CDO-ALLDAYEVENT:FALSE
SUMMARY:Dunkin' Days
DESCRIPTION:A kid friendly festival filled with lots of treats and fun. Attractions will include face painting\, bouncy houses\, a dunk tank and much much more! There will also be an auction benefitting the Joy in Childhood Foundation.
X-ALT-DESC;FMTTYPE=text/html:A kid friendly festival filled with lots of treats and fun. Attractions will include face painting\, bouncy houses\, a dunk tank and much much more! There will also be an auction benefitting the Joy in Childhood Foundation.
LOCATION:Dunkin' 2480 Hwy 138\, Stoughton WI
UID:e.3020.5867
SEQUENCE:3
DTSTAMP:20260420T174215Z
URL:http://stoughtonma.chambermaster.com/events/details/dunkin-days-5867
END:VEVENT

END:VCALENDAR
