BEGIN:VCALENDAR
VERSION:2.0
PRODID:-//ChamberMaster//Event Calendar 2.0//EN
METHOD:PUBLISH
X-PUBLISHED-TTL:P3D
REFRESH-INTERVAL:P3D
CALSCALE:GREGORIAN
BEGIN:VEVENT
DTSTART:20231202T163000Z
DTEND:20231202T193000Z
X-MICROSOFT-CDO-ALLDAYEVENT:FALSE
SUMMARY:Santa's Workshop
DESCRIPTION:The Stoughton Kiwanis Club hosts Santa's Workshop as part of Victorian Holiday Weekend. This free event is located in the Holiday Craft Market at Chorus Public House\, 154 W. Main Street.\n\nBring the kids and grandkids for cookie decorating\, crafts\, and face painting\, which run from 10:30 am to 1:30 pm. \n\nAnd they can have their picture taken with Santa from 11:00 am to 12:30 pm.
X-ALT-DESC;FMTTYPE=text/html:The Stoughton Kiwanis Club hosts Santa&#39\;s Workshop as part of Victorian Holiday Weekend. This free event is located in the Holiday Craft Market at Chorus Public House\, 154 W. Main Street.<br />\nBring the kids and grandkids for cookie decorating\, crafts\, and face painting\, which run from 10:30 am to 1:30 pm.&nbsp\;<br />\nAnd they can have their picture taken with Santa from 11:00 am to 12:30 pm.
LOCATION:Chorus Public House\, 154 W. Main Street\, Stoughton\, Wisconsin 53589
UID:e.3020.11560
SEQUENCE:3
DTSTAMP:20260421T072253Z
URL:http://stoughtonma.chambermaster.com/events/details/santa-s-workshop-11560
END:VEVENT

END:VCALENDAR
